BEGIN:VCALENDAR
VERSION:2.0
PRODID:-//WBENC - ECPv6.15.13//NONSGML v1.0//EN
CALSCALE:GREGORIAN
METHOD:PUBLISH
X-WR-CALNAME:WBENC
X-ORIGINAL-URL:https://www.wbenc.org
X-WR-CALDESC:Events for WBENC
REFRESH-INTERVAL;VALUE=DURATION:PT1H
X-Robots-Tag:noindex
X-PUBLISHED-TTL:PT1H
BEGIN:VTIMEZONE
TZID:America/New_York
BEGIN:DAYLIGHT
TZOFFSETFROM:-0500
TZOFFSETTO:-0400
TZNAME:EDT
DTSTART:20250309T070000
END:DAYLIGHT
BEGIN:STANDARD
TZOFFSETFROM:-0400
TZOFFSETTO:-0500
TZNAME:EST
DTSTART:20251102T060000
END:STANDARD
BEGIN:DAYLIGHT
TZOFFSETFROM:-0500
TZOFFSETTO:-0400
TZNAME:EDT
DTSTART:20260308T070000
END:DAYLIGHT
BEGIN:STANDARD
TZOFFSETFROM:-0400
TZOFFSETTO:-0500
TZNAME:EST
DTSTART:20261101T060000
END:STANDARD
BEGIN:DAYLIGHT
TZOFFSETFROM:-0500
TZOFFSETTO:-0400
TZNAME:EDT
DTSTART:20270314T070000
END:DAYLIGHT
BEGIN:STANDARD
TZOFFSETFROM:-0400
TZOFFSETTO:-0500
TZNAME:EST
DTSTART:20271107T060000
END:STANDARD
END:VTIMEZONE
BEGIN:VTIMEZONE
TZID:America/Los_Angeles
BEGIN:DAYLIGHT
TZOFFSETFROM:-0800
TZOFFSETTO:-0700
TZNAME:PDT
DTSTART:20250309T100000
END:DAYLIGHT
BEGIN:STANDARD
TZOFFSETFROM:-0700
TZOFFSETTO:-0800
TZNAME:PST
DTSTART:20251102T090000
END:STANDARD
BEGIN:DAYLIGHT
TZOFFSETFROM:-0800
TZOFFSETTO:-0700
TZNAME:PDT
DTSTART:20260308T100000
END:DAYLIGHT
BEGIN:STANDARD
TZOFFSETFROM:-0700
TZOFFSETTO:-0800
TZNAME:PST
DTSTART:20261101T090000
END:STANDARD
BEGIN:DAYLIGHT
TZOFFSETFROM:-0800
TZOFFSETTO:-0700
TZNAME:PDT
DTSTART:20270314T100000
END:DAYLIGHT
BEGIN:STANDARD
TZOFFSETFROM:-0700
TZOFFSETTO:-0800
TZNAME:PST
DTSTART:20271107T090000
END:STANDARD
END:VTIMEZONE
BEGIN:VEVENT
DTSTART;VALUE=DATE:20260310
DTEND;VALUE=DATE:20260620
DTSTAMP:20260422T081429
CREATED:20260128T001611Z
LAST-MODIFIED:20260302T192518Z
UID:10004340-1773100800-1781913599@www.wbenc.org
SUMMARY:2026 WeTHRIVE: Rise\, Grow & Thrive
DESCRIPTION:Title Sponsor: Cushman & Wakefield \nSession Sponsor: MassMutual \nApply by Noon ET on March 4\, 2026!\nApply Today \nWeTHRIVE is an all-virtual WBENC Executive Education Program providing business development fundamentals\, meeting small and midsize business owners where they are today and positioning them to grow and thrive in today’s economy. \nWeTHRIVE provides learning in Leadership & Communication\, Financial Management\, Business Strategy\, Operations & Human Resources\, and Digital Marketing. Each program session is led by a subject matter expert or WBENC Corporate Member providing participants with well-rounded perspectives on critical aspects of business. \n \n  \n\nWhy Participate\nIf you are a business owner certified through WBENC\, or a member of a WBENC partner organization\, the WeTHRIVE Executive Education Program is designed to support you today and position your company for future growth and success. Graduates of the program rave about the knowledge and insights that they gain in WeTHRIVE. It’s an essential program for all business owners looking to achieve long-term business success. \nThrough our network of business leaders and industry experts\, WeTHRIVE will help you: \n\nEvaluate the sustainability of your business.\nBuild the capabilities needed to operate and grow a business in a shifting economy.\nEngage with peers to share solutions to critical business issues.\nBuild a community of SMBs that will support growth into the future.\n\nWeTHRIVE is the launchpad for business owners into WBENC Executive Education Programs. \n\nSchedule\nProgram Dates:\n\nTuesday\, March 10\, 12:00 PM – 1:30 PM ET – Program Kickoff and Peer Group 1\nTuesdays\, 11:00 AM – 1:00 PM ET – RISE Track\nTuesdays\, 2:00 PM – 4:00 PM ET – GROW Track\nThursdays\, 12:00 PM – 2:00 PM ET – All Tracks\n2 Fridays\, 11:00 AM – 12:00 PM ET – Peer Groups\nTuesday\, May 12\, 12:00 PM – 1:00 PM ET – Cohort Graduation\n2026 WBENC National Conference Session (More details coming soon!)\n\n\nWho Should Apply\nWBENC-Certified businesses and entrepreneurs from WBENC partner organizations are encouraged to apply. Participants in all phases of business who want to position their business to grow and thrive for the future will benefit from this WBENC Executive Education Program. \nIn order to meet completion requirements\, participants will need to attend and complete all assigned courses. \nNote: WeTHRIVE is a dedicated environment for business owners. Since it is a virtual program\, other approved executives may join the program sessions with you\, but the business owner must always attend the sessions. \nFor more information about this program\, please visit WeTHRIVE.
URL:https://www.wbenc.org/calendar/2026-wethrive-rise-grow-thrive/
LOCATION:WA
CATEGORIES:Executive Education Program
ATTACH;FMTTYPE=image/png:https://www.wbenc.org/wp-content/uploads/2020/12/WeTHRIVE-for-program-page.png
END:VEVENT
BEGIN:VEVENT
DTSTART;TZID=America/Los_Angeles:20260422T100000
DTEND;TZID=America/Los_Angeles:20260422T110000
DTSTAMP:20260422T081429
CREATED:20260115T153721Z
LAST-MODIFIED:20260115T153721Z
UID:10003818-1776852000-1776855600@www.wbenc.org
SUMMARY:WBEC-West | WBE Resource Portal 101
DESCRIPTION:The WBEC-West WBE Resource Portal (WRP) is a powerful\, exclusive tool filled with essential resources to help you maximize the impact of your WBENC certification. In this step-by-step session\, we`ll guide you through the portal\, demonstrating how to connect with other WBEs interested in mutual business\, forming strategic partnerships\, and collaborating on upcoming bid opportunities. \nWe`ll also cover the extensive corporate resources within the portal\, including: \n\nCurrent Corporate Opportunities: Access and browse new opportunities tailored for WBEs.\nIn-Person Events and Programs: Discover upcoming events and programs to expand your network.\nSupplier Portal Links: Learn how to leverage direct links to corporate supplier portals.\n\nThis session will empower you to unlock the full potential of the WBE Resource Portal and expand your opportunities and connections as you prepare for a successful 2026! \nEvent Dates (All times are 10 AM – 11 AM PT): \n\nWednesday\, January 21\, 2026\nWednesday\, February 18\, 2026\nWednesday\, March 18\, 2026\nWednesday\, April 22\, 2026\nWednesday\, May 13\, 2026\nWednesday\, June 24\, 2026\nWednesday\, July 22\, 2026\nWednesday\, August 19\, 2026\nWednesday\, September 23\, 2026\nWednesday\, October 21\, 2026\nWednesday\, November 18\, 2026\nWednesday\, December 16\, 2026\n\nE-Mail Bowynn@WBEC-West.org for more details or to receive the registration link.
URL:https://www.wbenc.org/calendar/wbec-west-wbe-resource-portal-101/2026-04-22/
LOCATION:Microsoft Teams
CATEGORIES:RPO WBEC West
ATTACH;FMTTYPE=image/png:https://www.wbenc.org/wp-content/uploads/2020/07/12.png
END:VEVENT
BEGIN:VEVENT
DTSTART;TZID=America/New_York:20260422T170000
DTEND;TZID=America/New_York:20260422T190000
DTSTAMP:20260422T081429
CREATED:20260401T145618Z
LAST-MODIFIED:20260420T174555Z
UID:10004507-1776877200-1776884400@www.wbenc.org
SUMMARY:WBENC Collegiate Accelerator X NextGen: Leadership\, Innovation & Looking Ahead
DESCRIPTION:WBENC Collegiate Accelerator and WBENC NextGen invite ALL to join us Wednesday\, April 22 for “Leadership\, Innovation & Looking Ahead”! \nThis session will bring together NextGen founders and the leaders who support them to explore how innovation and forward‑thinking leadership are shaping the future of entrepreneurship. Speakers will share the challenges\, breakthroughs\, and strategic decisions that have defined their careers\, offering an inside look at what it takes to build and scale ventures and small businesses in an ever‑evolving entrepreneurial landscape. \nBy reflecting on pivotal moments and the leadership mindsets that fuel creativity and resilience\, participants will gain practical insights into how the next generation is redefining opportunity and driving meaningful innovation. Session attendees will also have the opportunity to foster connections with founders and corporate professionals in small-group breakout rooms following the panel conversation. \nThis session is open to ALL – we invite NextGen entrepreneurs and their teams\, corporate professionals\, and all who support them to join us for insightful discussion and relationship‑building opportunities.
URL:https://www.wbenc.org/calendar/wbenc-collegiate-accelerator-x-nextgen-leadership-innovation-looking-ahead/
LOCATION:WA
CATEGORIES:Featured,Networking Event,Webinar
ATTACH;FMTTYPE=image/png:https://www.wbenc.org/wp-content/uploads/2026/04/NEXTGEN-9.png
END:VEVENT
END:VCALENDAR