BEGIN:VCALENDAR
VERSION:2.0
PRODID:-//WBENC - ECPv6.15.13//NONSGML v1.0//EN
CALSCALE:GREGORIAN
METHOD:PUBLISH
X-WR-CALNAME:WBENC
X-ORIGINAL-URL:https://www.wbenc.org
X-WR-CALDESC:Events for WBENC
REFRESH-INTERVAL;VALUE=DURATION:PT1H
X-Robots-Tag:noindex
X-PUBLISHED-TTL:PT1H
BEGIN:VTIMEZONE
TZID:America/New_York
BEGIN:DAYLIGHT
TZOFFSETFROM:-0500
TZOFFSETTO:-0400
TZNAME:EDT
DTSTART:20250309T070000
END:DAYLIGHT
BEGIN:STANDARD
TZOFFSETFROM:-0400
TZOFFSETTO:-0500
TZNAME:EST
DTSTART:20251102T060000
END:STANDARD
BEGIN:DAYLIGHT
TZOFFSETFROM:-0500
TZOFFSETTO:-0400
TZNAME:EDT
DTSTART:20260308T070000
END:DAYLIGHT
BEGIN:STANDARD
TZOFFSETFROM:-0400
TZOFFSETTO:-0500
TZNAME:EST
DTSTART:20261101T060000
END:STANDARD
BEGIN:DAYLIGHT
TZOFFSETFROM:-0500
TZOFFSETTO:-0400
TZNAME:EDT
DTSTART:20270314T070000
END:DAYLIGHT
BEGIN:STANDARD
TZOFFSETFROM:-0400
TZOFFSETTO:-0500
TZNAME:EST
DTSTART:20271107T060000
END:STANDARD
END:VTIMEZONE
BEGIN:VTIMEZONE
TZID:America/Phoenix
BEGIN:STANDARD
TZOFFSETFROM:-0700
TZOFFSETTO:-0700
TZNAME:MST
DTSTART:20250101T000000
END:STANDARD
END:VTIMEZONE
BEGIN:VEVENT
DTSTART;VALUE=DATE:20260310
DTEND;VALUE=DATE:20260620
DTSTAMP:20260422T063146
CREATED:20260128T001611Z
LAST-MODIFIED:20260302T192518Z
UID:10004340-1773100800-1781913599@www.wbenc.org
SUMMARY:2026 WeTHRIVE: Rise\, Grow & Thrive
DESCRIPTION:Title Sponsor: Cushman & Wakefield \nSession Sponsor: MassMutual \nApply by Noon ET on March 4\, 2026!\nApply Today \nWeTHRIVE is an all-virtual WBENC Executive Education Program providing business development fundamentals\, meeting small and midsize business owners where they are today and positioning them to grow and thrive in today’s economy. \nWeTHRIVE provides learning in Leadership & Communication\, Financial Management\, Business Strategy\, Operations & Human Resources\, and Digital Marketing. Each program session is led by a subject matter expert or WBENC Corporate Member providing participants with well-rounded perspectives on critical aspects of business. \n \n  \n\nWhy Participate\nIf you are a business owner certified through WBENC\, or a member of a WBENC partner organization\, the WeTHRIVE Executive Education Program is designed to support you today and position your company for future growth and success. Graduates of the program rave about the knowledge and insights that they gain in WeTHRIVE. It’s an essential program for all business owners looking to achieve long-term business success. \nThrough our network of business leaders and industry experts\, WeTHRIVE will help you: \n\nEvaluate the sustainability of your business.\nBuild the capabilities needed to operate and grow a business in a shifting economy.\nEngage with peers to share solutions to critical business issues.\nBuild a community of SMBs that will support growth into the future.\n\nWeTHRIVE is the launchpad for business owners into WBENC Executive Education Programs. \n\nSchedule\nProgram Dates:\n\nTuesday\, March 10\, 12:00 PM – 1:30 PM ET – Program Kickoff and Peer Group 1\nTuesdays\, 11:00 AM – 1:00 PM ET – RISE Track\nTuesdays\, 2:00 PM – 4:00 PM ET – GROW Track\nThursdays\, 12:00 PM – 2:00 PM ET – All Tracks\n2 Fridays\, 11:00 AM – 12:00 PM ET – Peer Groups\nTuesday\, May 12\, 12:00 PM – 1:00 PM ET – Cohort Graduation\n2026 WBENC National Conference Session (More details coming soon!)\n\n\nWho Should Apply\nWBENC-Certified businesses and entrepreneurs from WBENC partner organizations are encouraged to apply. Participants in all phases of business who want to position their business to grow and thrive for the future will benefit from this WBENC Executive Education Program. \nIn order to meet completion requirements\, participants will need to attend and complete all assigned courses. \nNote: WeTHRIVE is a dedicated environment for business owners. Since it is a virtual program\, other approved executives may join the program sessions with you\, but the business owner must always attend the sessions. \nFor more information about this program\, please visit WeTHRIVE.
URL:https://www.wbenc.org/calendar/2026-wethrive-rise-grow-thrive/
LOCATION:WA
CATEGORIES:Executive Education Program
ATTACH;FMTTYPE=image/png:https://www.wbenc.org/wp-content/uploads/2020/12/WeTHRIVE-for-program-page.png
END:VEVENT
BEGIN:VEVENT
DTSTART;TZID=America/Phoenix:20260421T090000
DTEND;TZID=America/Phoenix:20260421T110000
DTSTAMP:20260422T063146
CREATED:20260403T200756Z
LAST-MODIFIED:20260410T151313Z
UID:10004506-1776762000-1776769200@www.wbenc.org
SUMMARY:WBEC Pacific | Idaho Coffee Chat
DESCRIPTION:You’re Invited: A Coffee Chat Just for Business Leaders Like You! \nPicture this: a relaxed morning surrounded by fellow business owners who truly understand the journey you’re on. No presentations\, no pressure\, no packed agenda. Just warm coffee\, great snacks\, and open conversation with people who are out there building something meaningful every single day. \nCome ready to: \n\nForge genuine connections with fellow business owners who share your passion and determination\nExplore the tools\, programs\, and opportunities WBEC-Pacific has created to help businesses like yours grow and succeed\nShare your perspective on what support really looks like for your business\, because your voice shapes what we do\nWalk away with relationships that turn into referrals\, collaborations\, and real opportunities\n\nSomething special happens when business owners gather in the same room. Conversations spark ideas you hadn’t considered. Energy builds. New doors open. WBEC-Pacific is here to be a resource and a champion for your business growth\, and we want you to experience firsthand what that looks like. \nSeats are limited to keep things personal and meaningful so save yours today and come spend a morning investing in yourself and your business. \nWe look forward to seeing you there. \nLight refreshments provided. Come curious. Leave connected.
URL:https://www.wbenc.org/calendar/wbec-pacific-idaho-coffee-chat/
LOCATION:Tuuti Agency\, 404 South 8th St\, Suite 150\, Boise\, ID\, 83702\, United States
CATEGORIES:RPO WBEC Pacific
ATTACH;FMTTYPE=image/png:https://www.wbenc.org/wp-content/uploads/2022/08/wbecpacific.png
END:VEVENT
BEGIN:VEVENT
DTSTART;TZID=America/New_York:20260421T120000
DTEND;TZID=America/New_York:20260421T130000
DTSTAMP:20260422T063146
CREATED:20260220T221230Z
LAST-MODIFIED:20260220T221230Z
UID:10004454-1776772800-1776776400@www.wbenc.org
SUMMARY:CWE | I'm Certified. Now What? Live Webinar
DESCRIPTION:Have you recently received your WBENC certification? Join us to learn more about the larger WBENC Network\, WBENC Programming\, and how to apply for recertification. \nIf you have not yet gotten certified by WBENC and are interested in learning more\, please email us at certification@cweonline.org.
URL:https://www.wbenc.org/calendar/cwe-im-certified-now-what-live-webinar-2/
LOCATION:Zoom Webinar
CATEGORIES:RPO CWE,Webinar
ATTACH;FMTTYPE=image/png:https://www.wbenc.org/wp-content/uploads/2020/07/private-eyes-1.png
ORGANIZER;CN="Center for Women & Enterprise (CWE)":MAILTO:https://www.cweonline.org/
END:VEVENT
BEGIN:VEVENT
DTSTART;TZID=America/New_York:20260421T130000
DTEND;TZID=America/New_York:20260421T143000
DTSTAMP:20260422T063146
CREATED:20260327T160045Z
LAST-MODIFIED:20260327T160045Z
UID:10004473-1776776400-1776781800@www.wbenc.org
SUMMARY:CWE | How to Prepare for a Business to Government or Business to Corporate Matchmaker - Live Webinar
DESCRIPTION:This webinar will help you prepare for participation in a matchmaker by providing tips on how to present your products & services. The goal is for you to have a positive and productive marketing and networking experience at a B2G (business to government) or B2C (business to corporation) matchmaker. This workshop will cover: \n· Marketing materials (e.g.\, capability statement) \n· Elevator pitch \n· Matchmaker etiquette \n· Market research \n· Networking \n· Post event follow-up \n· Q&A
URL:https://www.wbenc.org/calendar/cwe-how-to-prepare-for-a-business-to-government-or-business-to-corporate-matchmaker-live-webinar/
LOCATION:Zoom Webinar
CATEGORIES:RPO CWE,Webinar
ATTACH;FMTTYPE=image/png:https://www.wbenc.org/wp-content/uploads/2020/07/private-eyes-1.png
ORGANIZER;CN="Center for Women & Enterprise (CWE)":MAILTO:https://www.cweonline.org/
END:VEVENT
END:VCALENDAR